BEGIN:VCALENDAR
VERSION:2.0
PRODID:Evento- Rancho Folclórico de Quintã
X-WR-CALNAME:Evento- Rancho Folclórico de Quintã
X-WR-TIMEZONE:Europe/Lisbon
X-PUBLISHED-TTL:P1W
BEGIN:VTIMEZONE
TZID:Europe/Lisbon
X-LIC-LOCATION:Europe/Lisbon
END:VTIMEZONE
BEGIN:VEVENT
UID:69e8c9e6d3693
DTSTART;VALUE=DATE:20260328
SEQUENCE:0
TRANSP:OPAQUE
DTEND;VALUE=DATE:20260329
SUMMARY:Evento- Rancho Folclórico de Quintã
CLASS:PUBLIC
DESCRIPTION:O Rancho Folclórico de Quintã convida todos a estarem present
 es no nosso baile dia 28 de Março para comemorar mais um ano de existênc
 ia da nossa associação.Já são 47 anos de um longo caminho\, de memóri
 as\, convívios e assim queremos continuar!Contamos consigo para juntos so
 prar as velas.Até lá!
X-MICROSOFT-CDO-ALLDAYEVENT:TRUE
DTSTAMP:20260422T131518Z
END:VEVENT
END:VCALENDAR