BEGIN:VCALENDAR
VERSION:2.0
PRODID:Feira da Primavera
X-WR-CALNAME:Feira da Primavera
X-WR-TIMEZONE:Europe/Lisbon
X-PUBLISHED-TTL:P1W
BEGIN:VTIMEZONE
TZID:Europe/Lisbon
X-LIC-LOCATION:Europe/Lisbon
END:VTIMEZONE
BEGIN:VEVENT
UID:69e8c899a656d
DTSTART;VALUE=DATE:20260327
SEQUENCE:0
TRANSP:OPAQUE
DTEND;VALUE=DATE:20260328
SUMMARY:Feira da Primavera
CLASS:PUBLIC
DESCRIPTION:O Jardim de Infância de Eiró vai realizar a sua Feira da Prim
 avera no próximo dia 27 de março\, entre as 10h e as 12h.Este evento pro
 mete muita animação\, atividades para toda a família e momentos de conv
 ívio num ambiente cheio de cor e alegria. Para tornar a manhã ainda mais
  especial\, haverá também uma deliciosa feijoada\, preparada com todo o 
 carinho.Todos são convidados a participar e a celebrar a chegada da prima
 vera!
X-MICROSOFT-CDO-ALLDAYEVENT:TRUE
DTSTAMP:20260422T130945Z
END:VEVENT
END:VCALENDAR