BEGIN:VCALENDAR
VERSION:2.0
PRODID:Munícipio do Marco de Canaveses- Caminhadas em Família
X-WR-CALNAME:Munícipio do Marco de Canaveses- Caminhadas em Família
X-WR-TIMEZONE:Europe/Lisbon
X-PUBLISHED-TTL:P1W
BEGIN:VTIMEZONE
TZID:Europe/Lisbon
X-LIC-LOCATION:Europe/Lisbon
END:VTIMEZONE
BEGIN:VEVENT
UID:69e8c8996d33e
DTSTART;VALUE=DATE:20260321
SEQUENCE:0
TRANSP:OPAQUE
DTEND;VALUE=DATE:20260322
SUMMARY:Munícipio do Marco de Canaveses- Caminhadas em Família
CLASS:PUBLIC
X-MICROSOFT-CDO-ALLDAYEVENT:TRUE
DTSTAMP:20260422T130945Z
END:VEVENT
END:VCALENDAR